BEGIN:VCALENDAR
VERSION:2.0
PRODID:-//WakeUP Wake County - ECPv6.15.20//NONSGML v1.0//EN
CALSCALE:GREGORIAN
METHOD:PUBLISH
X-WR-CALNAME:WakeUP Wake County
X-ORIGINAL-URL:https://wakeupwakecounty.org
X-WR-CALDESC:Events for WakeUP Wake County
REFRESH-INTERVAL;VALUE=DURATION:PT1H
X-Robots-Tag:noindex
X-PUBLISHED-TTL:PT1H
BEGIN:VTIMEZONE
TZID:America/New_York
BEGIN:DAYLIGHT
TZOFFSETFROM:-0500
TZOFFSETTO:-0400
TZNAME:EDT
DTSTART:20240310T070000
END:DAYLIGHT
BEGIN:STANDARD
TZOFFSETFROM:-0400
TZOFFSETTO:-0500
TZNAME:EST
DTSTART:20241103T060000
END:STANDARD
BEGIN:DAYLIGHT
TZOFFSETFROM:-0500
TZOFFSETTO:-0400
TZNAME:EDT
DTSTART:20250309T070000
END:DAYLIGHT
BEGIN:STANDARD
TZOFFSETFROM:-0400
TZOFFSETTO:-0500
TZNAME:EST
DTSTART:20251102T060000
END:STANDARD
BEGIN:DAYLIGHT
TZOFFSETFROM:-0500
TZOFFSETTO:-0400
TZNAME:EDT
DTSTART:20260308T070000
END:DAYLIGHT
BEGIN:STANDARD
TZOFFSETFROM:-0400
TZOFFSETTO:-0500
TZNAME:EST
DTSTART:20261101T060000
END:STANDARD
BEGIN:DAYLIGHT
TZOFFSETFROM:-0500
TZOFFSETTO:-0400
TZNAME:EDT
DTSTART:20270314T070000
END:DAYLIGHT
BEGIN:STANDARD
TZOFFSETFROM:-0400
TZOFFSETTO:-0500
TZNAME:EST
DTSTART:20271107T060000
END:STANDARD
END:VTIMEZONE
BEGIN:VEVENT
DTSTART;TZID=America/New_York:20260422T173000
DTEND;TZID=America/New_York:20260422T200000
DTSTAMP:20260421T213151
CREATED:20260409T183553Z
LAST-MODIFIED:20260409T184831Z
UID:2465-1776879000-1776888000@wakeupwakecounty.org
SUMMARY:Under One Canopy: Supporting Roots & Roofs in Wake County
DESCRIPTION:RSVP\nGreg Poole\, Jr. All Faiths Chapel\n1030 Richardson Dr.\, Dorothea\nDix Park\, Raleigh\, NC 27603 \nJoin us this Earth Day for an event celebrating Wake County’s trees! \nUnder One Canopy is a public event aimed at highlighting the importance of Wake County’s urban tree canopy. Leading experts will showcase research-based strategies that anyone\, from individual residents to policymakers\, can take to be good stewards of green spaces in a rapidly growing region. Topics will range from the latest Wake County tree canopy assessment to healing our environment one back yard at a time. Attendees will leave with an understanding of how policies that improve environmental resiliency can support sustainable and intentionally planned growth. \nBy WakeUp Wake County & Raleigh Forward
URL:https://wakeupwakecounty.org/event/under-one-canopy-supporting-roots-roofs-in-wake-county/
END:VEVENT
BEGIN:VEVENT
DTSTART;TZID=America/New_York:20260205T173000
DTEND;TZID=America/New_York:20260205T193000
DTSTAMP:20260421T213151
CREATED:20260130T205030Z
LAST-MODIFIED:20260130T205400Z
UID:2285-1770312600-1770319800@wakeupwakecounty.org
SUMMARY:Happy Hour! RaleighForward\, WakeUP Wake County\, & CITYBUILDER
DESCRIPTION:Meet other community advocates interested in helping shape Raleigh’s future. \nBottle Rev 3\n7713 Lead Mine Rd\, #47\nRaleigh\, NC 27615
URL:https://wakeupwakecounty.org/event/raleighforward-wakeup-wake-county-citybuilder-for-a-happy-hour/
END:VEVENT
BEGIN:VEVENT
DTSTART;TZID=America/New_York:20251204T173000
DTEND;TZID=America/New_York:20251204T193000
DTSTAMP:20260421T213151
CREATED:20250910T192156Z
LAST-MODIFIED:20260304T212249Z
UID:655-1764869400-1764876600@wakeupwakecounty.org
SUMMARY:WUWC Reception Dec. 4
DESCRIPTION:Please join WakeUP Wake County and RaleighForward for our Annual Reception. As in the past\, this is a gathering of friends who share a vision for a sustainable and equitable region. Our keynote speaker is Dr. Jenny Schuetz\, Vice President of Infrastructure\, Housing at Arnold Ventures. Dr. Schuetz has a distinguished record in housing policy as a professor\, economist\, and author. She is a prolific writer on the topic of housing markets and authored the book\, Fixer Upper: How to Repair America’s Broken Housing Systems.
URL:https://wakeupwakecounty.org/event/wuwc-reception-dec-25/
ATTACH;FMTTYPE=image/png:https://wakeupwakecounty.org/wp-content/uploads/2025/09/Annual-Reception-25-GB.png
ORGANIZER;CN="WUWC Executive Director":MAILTO:executivedirector@wakeupwakecounty.org
END:VEVENT
BEGIN:VEVENT
DTSTART;TZID=America/New_York:20251009T173000
DTEND;TZID=America/New_York:20251009T203000
DTSTAMP:20260421T213151
CREATED:20250924T173147Z
LAST-MODIFIED:20260304T212949Z
UID:1568-1760031000-1760041800@wakeupwakecounty.org
SUMMARY:ADUs by the Numbers: A Data-Driven Look at the Future of Housing
DESCRIPTION:The City of Raleigh legalized Accessory Dwelling Units (ADUs) more than five years ago. Please plan to join us for an assessment of the success of the ordinance. We’ll present key data\, trends\, and insights about ADUs in Raleigh\, as well as up-to-date figures on permitting activity\, construction trends\, financing strategies\, occupancy\, and community impact. Through interactive presentations\, panel discussions\, and data visualization\, the event will empower homeowners\, policymakers\, housing advocates\, and developers with the knowledge they need to support the current success and future expansion of ADUs in the housing landscape. \nThis program is FREE and open to the public. Registration is required.
URL:https://wakeupwakecounty.org/event/adus-by-the-numbers-a-data-driven-look-at-the-future-of-housing/
ATTACH;FMTTYPE=image/jpeg:https://wakeupwakecounty.org/wp-content/uploads/2025/09/knightdale-neighborhood-1.jpg
ORGANIZER;CN="WUWC_Archetype":MAILTO:elizabeth@archetype-usa.com
END:VEVENT
END:VCALENDAR